BEGIN:VCALENDAR
VERSION:2.0
PRODID:-//GrimDark - ECPv6.13.2.1//NONSGML v1.0//EN
CALSCALE:GREGORIAN
METHOD:PUBLISH
X-ORIGINAL-URL:https://www.grim-dark.com
X-WR-CALDESC:Events for GrimDark
REFRESH-INTERVAL;VALUE=DURATION:PT1H
X-Robots-Tag:noindex
X-PUBLISHED-TTL:PT1H
BEGIN:VTIMEZONE
TZID:UTC
BEGIN:STANDARD
TZOFFSETFROM:+0000
TZOFFSETTO:+0000
TZNAME:UTC
DTSTART:20170101T000000
END:STANDARD
END:VTIMEZONE
BEGIN:VEVENT
DTSTART;TZID=UTC:20171108T090000
DTEND;TZID=UTC:20171109T130000
DTSTAMP:20260425T163622
CREATED:20171108T060023Z
LAST-MODIFIED:20171108T060023Z
UID:69-1510131600-1510232400@www.grim-dark.com
SUMMARY:Testing WITH Links!!
DESCRIPTION:We’re adding thing to a calendar! All these fields will follow!!
URL:https://www.grim-dark.com/event/testing-with-links/
END:VEVENT
BEGIN:VEVENT
DTSTART;TZID=UTC:20171108T090000
DTEND;TZID=UTC:20171108T160000
DTSTAMP:20260425T163622
CREATED:20171108T060023Z
LAST-MODIFIED:20171108T060023Z
UID:68-1510131600-1510156800@www.grim-dark.com
SUMMARY:Mooooore Tests!
DESCRIPTION:Gonna ACTUALLY populate a calendar!
URL:https://www.grim-dark.com/event/mooooore-tests/
END:VEVENT
BEGIN:VEVENT
DTSTART;TZID=UTC:20171107T090000
DTEND;TZID=UTC:20171110T130000
DTSTAMP:20260425T163622
CREATED:20171108T060022Z
LAST-MODIFIED:20171108T060022Z
UID:67-1510045200-1510318800@www.grim-dark.com
SUMMARY:Another test
DESCRIPTION:Testing\, now with a calendar!
URL:https://www.grim-dark.com/event/another-test/
END:VEVENT
END:VCALENDAR